BEGIN:VCALENDAR
VERSION:2.0
PRODID:-//Freie Waldorfschule München Südwest - ECPv6.15.15//NONSGML v1.0//EN
CALSCALE:GREGORIAN
METHOD:PUBLISH
X-ORIGINAL-URL:https://waldorfschule-msw.de
X-WR-CALDESC:Veranstaltungen für Freie Waldorfschule München Südwest
REFRESH-INTERVAL;VALUE=DURATION:PT1H
X-Robots-Tag:noindex
X-PUBLISHED-TTL:PT1H
BEGIN:VTIMEZONE
TZID:Europe/Berlin
BEGIN:DAYLIGHT
TZOFFSETFROM:+0100
TZOFFSETTO:+0200
TZNAME:CEST
DTSTART:20240331T010000
END:DAYLIGHT
BEGIN:STANDARD
TZOFFSETFROM:+0200
TZOFFSETTO:+0100
TZNAME:CET
DTSTART:20241027T010000
END:STANDARD
BEGIN:DAYLIGHT
TZOFFSETFROM:+0100
TZOFFSETTO:+0200
TZNAME:CEST
DTSTART:20250330T010000
END:DAYLIGHT
BEGIN:STANDARD
TZOFFSETFROM:+0200
TZOFFSETTO:+0100
TZNAME:CET
DTSTART:20251026T010000
END:STANDARD
BEGIN:DAYLIGHT
TZOFFSETFROM:+0100
TZOFFSETTO:+0200
TZNAME:CEST
DTSTART:20260329T010000
END:DAYLIGHT
BEGIN:STANDARD
TZOFFSETFROM:+0200
TZOFFSETTO:+0100
TZNAME:CET
DTSTART:20261025T010000
END:STANDARD
END:VTIMEZONE
BEGIN:VEVENT
DTSTART;TZID=Europe/Berlin:20250110T193000
DTEND;TZID=Europe/Berlin:20250110T210000
DTSTAMP:20260423T180634
CREATED:20231024T195150Z
LAST-MODIFIED:20241111T202115Z
UID:8319-1736537400-1736542800@waldorfschule-msw.de
SUMMARY:1. Info-Abend neue erste Klasse 2025/26
DESCRIPTION:1. Infoabend (Pflichtveranstaltung für die Eltern der neuen ersten Klasse) \n„Einblicke in die Waldorf-Pädagogik“ \n\nmit anschließender Fragerunde.
URL:https://waldorfschule-msw.de/veranstaltung/1-info-abend-2/
LOCATION:Freie Waldorfschule München Südwest\, Züricher Straße 9\, 81476 München\, 81476
CATEGORIES:education,Vortrag
ATTACH;FMTTYPE=image/jpeg:https://waldorfschule-msw.de/wp-content/uploads/2022/12/Infotage-scaled.jpg
END:VEVENT
BEGIN:VEVENT
DTSTART;TZID=Europe/Berlin:20250117T193000
DTEND;TZID=Europe/Berlin:20250117T210000
DTSTAMP:20260423T180634
CREATED:20231024T194704Z
LAST-MODIFIED:20241114T070546Z
UID:8313-1737142200-1737147600@waldorfschule-msw.de
SUMMARY:2. Info-Abend neue erste Klasse 2025/26
DESCRIPTION:2. Infoabend (Pflichtveranstaltung für die Eltern der neuen ersten Klasse)\n\n„Wie Waldorfschule gelingt – soziale\, wirtschaftliche und ideelle Aspekte“ mit anschließender Fragerunde.
URL:https://waldorfschule-msw.de/veranstaltung/2-info-abend-2/
LOCATION:Freie Waldorfschule München Südwest\, Züricher Straße 9\, 81476 München\, 81476
ATTACH;FMTTYPE=image/jpeg:https://waldorfschule-msw.de/wp-content/uploads/2022/12/Infotage-scaled.jpg
END:VEVENT
BEGIN:VEVENT
DTSTART;TZID=Europe/Berlin:20250118T090000
DTEND;TZID=Europe/Berlin:20250118T153000
DTSTAMP:20260423T180634
CREATED:20231024T195007Z
LAST-MODIFIED:20241111T202231Z
UID:8316-1737190800-1737214200@waldorfschule-msw.de
SUMMARY:Info-Tag neue erste Klasse 2025/26
DESCRIPTION:Infotag (Pflichtveranstaltung für die Eltern der neuen ersten Klasse)\n\n\nDer Vormittag beginnt mit einer Monatsfeier. Danach können Sie im offenen Schulhaus unsere Pädagogen kennenlernen und Räume besichtigen. \n  \n\n\nAm Nachmittag gewinnen Sie in Workshops Einblicke in verschiedene Unterrichtsfächer. \n  \n\n\nAnmeldung zu den Workshops bitte ab Do\, 09.01.2024 ausschließlich telefonisch unter 089-7240638-0\, Mo-Fr 9-11 und 13-16 Uhr. \n  \n\n\n\n\n\n Am Informationswochenende findet die Terminvergabe für die Aufnahmegespräche statt – bitte in die ausliegenden Listen eintragen. 
URL:https://waldorfschule-msw.de/veranstaltung/info-tag-2/
LOCATION:Freie Waldorfschule München Südwest\, Züricher Straße 9\, 81476 München\, 81476
CATEGORIES:education,Vortrag
ATTACH;FMTTYPE=image/jpeg:https://waldorfschule-msw.de/wp-content/uploads/2022/12/Infotage-scaled.jpg
END:VEVENT
END:VCALENDAR