BEGIN:VCALENDAR
VERSION:2.0
PRODID:-//Freie Waldorfschule München Südwest - ECPv6.15.15//NONSGML v1.0//EN
CALSCALE:GREGORIAN
METHOD:PUBLISH
X-WR-CALNAME:Freie Waldorfschule München Südwest
X-ORIGINAL-URL:https://waldorfschule-msw.de
X-WR-CALDESC:Veranstaltungen für Freie Waldorfschule München Südwest
REFRESH-INTERVAL;VALUE=DURATION:PT1H
X-Robots-Tag:noindex
X-PUBLISHED-TTL:PT1H
BEGIN:VTIMEZONE
TZID:Europe/Berlin
BEGIN:DAYLIGHT
TZOFFSETFROM:+0100
TZOFFSETTO:+0200
TZNAME:CEST
DTSTART:20230326T010000
END:DAYLIGHT
BEGIN:STANDARD
TZOFFSETFROM:+0200
TZOFFSETTO:+0100
TZNAME:CET
DTSTART:20231029T010000
END:STANDARD
BEGIN:DAYLIGHT
TZOFFSETFROM:+0100
TZOFFSETTO:+0200
TZNAME:CEST
DTSTART:20240331T010000
END:DAYLIGHT
BEGIN:STANDARD
TZOFFSETFROM:+0200
TZOFFSETTO:+0100
TZNAME:CET
DTSTART:20241027T010000
END:STANDARD
BEGIN:DAYLIGHT
TZOFFSETFROM:+0100
TZOFFSETTO:+0200
TZNAME:CEST
DTSTART:20250330T010000
END:DAYLIGHT
BEGIN:STANDARD
TZOFFSETFROM:+0200
TZOFFSETTO:+0100
TZNAME:CET
DTSTART:20251026T010000
END:STANDARD
END:VTIMEZONE
BEGIN:VEVENT
DTSTART;TZID=Europe/Berlin:20241219T190000
DTEND;TZID=Europe/Berlin:20241219T200000
DTSTAMP:20260423T194152
CREATED:20241205T144605Z
LAST-MODIFIED:20241212T112501Z
UID:8854-1734634800-1734638400@waldorfschule-msw.de
SUMMARY:Oberuferer Christgeburtspiel
DESCRIPTION:Die schon von Rudolf Steiner angeregte Aufführung des Christgeburtspiels findet an vielen Waldorfschulen bis heute statt. Auch an unserer Schule wurde dieses Mysterienspiel vom Lehrpersonal in diesem Jahr wieder mit großem Engagement einstudiert. Das volksnahe Stück im donauschwäbischen Dialekt wird in Reimen vorgetragen\, untermalt mit vielen Gesangseinlagen und an manchen Stellen gewürzt mit derbem Humor. Die besinnliche Wirkung\, die von diesem Stück ausgeht\, lässt uns gemeinsam innehalten in dieser Weihnachtszeit.\nWir laden Sie herzlich ein zur Aufführung des Christgeburtspiels im Grünen Haus\, Turnhalle \nEintritt frei\, Spenden erbeten
URL:https://waldorfschule-msw.de/veranstaltung/oberuferer-cristgeburtsspiel/
LOCATION:Freie Waldorfschule München Südwest\, Züricher Straße 9\, 81476 München\, 81476
CATEGORIES:Fest,Musical
ATTACH;FMTTYPE=image/jpeg:https://waldorfschule-msw.de/wp-content/uploads/2022/12/web-christgeburtsspiel.jpg
END:VEVENT
END:VCALENDAR