BEGIN:VCALENDAR
VERSION:2.0
PRODID:-//Freie Waldorfschule München Südwest - ECPv6.15.15//NONSGML v1.0//EN
CALSCALE:GREGORIAN
METHOD:PUBLISH
X-WR-CALNAME:Freie Waldorfschule München Südwest
X-ORIGINAL-URL:https://waldorfschule-msw.de
X-WR-CALDESC:Veranstaltungen für Freie Waldorfschule München Südwest
REFRESH-INTERVAL;VALUE=DURATION:PT1H
X-Robots-Tag:noindex
X-PUBLISHED-TTL:PT1H
BEGIN:VTIMEZONE
TZID:Europe/Berlin
BEGIN:DAYLIGHT
TZOFFSETFROM:+0100
TZOFFSETTO:+0200
TZNAME:CEST
DTSTART:20230326T010000
END:DAYLIGHT
BEGIN:STANDARD
TZOFFSETFROM:+0200
TZOFFSETTO:+0100
TZNAME:CET
DTSTART:20231029T010000
END:STANDARD
BEGIN:DAYLIGHT
TZOFFSETFROM:+0100
TZOFFSETTO:+0200
TZNAME:CEST
DTSTART:20240331T010000
END:DAYLIGHT
BEGIN:STANDARD
TZOFFSETFROM:+0200
TZOFFSETTO:+0100
TZNAME:CET
DTSTART:20241027T010000
END:STANDARD
BEGIN:DAYLIGHT
TZOFFSETFROM:+0100
TZOFFSETTO:+0200
TZNAME:CEST
DTSTART:20250330T010000
END:DAYLIGHT
BEGIN:STANDARD
TZOFFSETFROM:+0200
TZOFFSETTO:+0100
TZNAME:CET
DTSTART:20251026T010000
END:STANDARD
END:VTIMEZONE
BEGIN:VEVENT
DTSTART;TZID=Europe/Berlin:20240229T200000
DTEND;TZID=Europe/Berlin:20240229T213000
DTSTAMP:20260424T104326
CREATED:20240208T092851Z
LAST-MODIFIED:20240208T141004Z
UID:8430-1709236800-1709242200@waldorfschule-msw.de
SUMMARY:"Inmitten der Welt” - Poesie und Musik
DESCRIPTION:Donnerstag\, 29. Februar 2024\, um 20 Uhr\, Gelbes Haus – Kleiner Saal\n\nTauchen Sie für einen Abend in eine Welt der Poesie und Klänge ein. Es sind Worte und Töne die nachdenklich machen\, die ergreifend und erheiternd sind. Zu hören sind Gedichte von Mascha Kaléko und Rajzel Zychlinksi – gelesen von Ursula Erber (“Dahoam is dahoam”) und Anna Gesa-Raija Lappe (Münchner Kammerspiele). Die musikalische Untermalung kommt vom YOUKALI-Ensemble mit Ulrike von Sybel-Erpf (Violine)\, Gisela Auspurg (Mutter in der 6. Klasse an der Waldorfschule-MSW\, Cello)\, Thomas Schaffert (Kontrabass)\, Walter Erpf (Akkordeon) und Nikolaus Stein (Gitarre). Gespielt werden Werke u.a. von Debussy\, Ibert\, Piazzolla und Prokofiew.\nDer Veranstaltungskreis lädt sowohl die Schulfamilie als auch externe Gäste zu diesem berührenden Abend ein. Der Eintritt ist frei. Um Spenden für die Künstler*innen wird gebeten
URL:https://waldorfschule-msw.de/veranstaltung/inmitten-der-welt-poesie-und-musik/
LOCATION:Freie Waldorfschule München Südwest\, Züricher Straße 9\, 81476 München\, 81476
CATEGORIES:Konzert
ATTACH;FMTTYPE=image/jpeg:https://waldorfschule-msw.de/wp-content/uploads/2024/02/800x470_Youkali.jpg
END:VEVENT
END:VCALENDAR