BEGIN:VCALENDAR
VERSION:2.0
PRODID:-//Freie Waldorfschule München Südwest - ECPv6.15.15//NONSGML v1.0//EN
CALSCALE:GREGORIAN
METHOD:PUBLISH
X-ORIGINAL-URL:https://waldorfschule-msw.de
X-WR-CALDESC:Veranstaltungen für Freie Waldorfschule München Südwest
REFRESH-INTERVAL;VALUE=DURATION:PT1H
X-Robots-Tag:noindex
X-PUBLISHED-TTL:PT1H
BEGIN:VTIMEZONE
TZID:Europe/Berlin
BEGIN:DAYLIGHT
TZOFFSETFROM:+0100
TZOFFSETTO:+0200
TZNAME:CEST
DTSTART:20220327T010000
END:DAYLIGHT
BEGIN:STANDARD
TZOFFSETFROM:+0200
TZOFFSETTO:+0100
TZNAME:CET
DTSTART:20221030T010000
END:STANDARD
BEGIN:DAYLIGHT
TZOFFSETFROM:+0100
TZOFFSETTO:+0200
TZNAME:CEST
DTSTART:20230326T010000
END:DAYLIGHT
BEGIN:STANDARD
TZOFFSETFROM:+0200
TZOFFSETTO:+0100
TZNAME:CET
DTSTART:20231029T010000
END:STANDARD
BEGIN:DAYLIGHT
TZOFFSETFROM:+0100
TZOFFSETTO:+0200
TZNAME:CEST
DTSTART:20240331T010000
END:DAYLIGHT
BEGIN:STANDARD
TZOFFSETFROM:+0200
TZOFFSETTO:+0100
TZNAME:CET
DTSTART:20241027T010000
END:STANDARD
END:VTIMEZONE
BEGIN:VEVENT
DTSTART;TZID=Europe/Berlin:20231203T130000
DTEND;TZID=Europe/Berlin:20231203T180000
DTSTAMP:20260424T131153
CREATED:20231106T143110Z
LAST-MODIFIED:20231202T104501Z
UID:8325-1701608400-1701626400@waldorfschule-msw.de
SUMMARY:Sinnlicher Adventsmarkt
DESCRIPTION:NEUER TERMIN: Sonntag\, 3. Dezember 2023 von 13 bis 18 Uhr\nDie Eltern des Waldorfkinderhauses und der Freien Waldorfschule München Südwest laden Sie herzlich zu einem vorweihnachtlichen Angebot für Groß und Klein ein. Liebevoll gefertigte Nettigkeiten für den Adventskalender oder Gabentisch sorgen für ein Lächeln bei Ihren Liebsten. Wir freuen uns auf Ihren Besuch zu einem Stück Kuchen oder an der Espresso-Bar. Kranzbinden\, Naturseifen\, Lebkuchen\, Kinderkaufladen\, Schönes aus Filz\, Zwergenwald\, Keramik\, Honigkerzen\, Süßes & Salziges\, Grillwürste\, Strickwaren für Kleine\, Nostalgisches Fotostudio … u.v.m.
URL:https://waldorfschule-msw.de/veranstaltung/sinnlicher-adventsmarkt/
LOCATION:Freie Waldorfschule München Südwest\, Züricher Straße 9\, 81476 München\, 81476
CATEGORIES:Fest,Markt,Märkte & Feste
ATTACH;FMTTYPE=image/jpeg:https://waldorfschule-msw.de/wp-content/uploads/2023/11/web_Advent-2023-scaled-Kopie.jpg
ORGANIZER;CN="Marktkreis Freie Waldorfschule M%C3%BCnchen S%C3%BCdwest":MAILTO:marktkreis@waldorfschule-msw.de
END:VEVENT
BEGIN:VEVENT
DTSTART;TZID=Europe/Berlin:20231208T190000
DTEND;TZID=Europe/Berlin:20231208T203000
DTSTAMP:20260424T131153
CREATED:20231128T111117Z
LAST-MODIFIED:20231128T112632Z
UID:8341-1702062000-1702067400@waldorfschule-msw.de
SUMMARY:Gefahren im Netz erkennen. Handlungsfähig bleiben!
DESCRIPTION:Vortrag von Thomas Rechl: Eltern auf dem Weg zu einer gesunden Medienentwicklung\n \n(Jugendbeamter\, Psychologe und Referent für Medienentwicklung) \n\n\n\n\nThemen: Cybermobbing l Gewalt im Netz l Exzessives Spielvehalten l Sexuelle Viktimisierung l Digitale Medien und deren Einfluss auf die Entwicklung Ihres Kindes l Mediennutzungsverträge l Medienerziehung l Alternativen zu Google\, WhatsApp und Co l Kinderschutz \n\nEintritt frei\, Spenden erbeten \nGelbes Haus\, Kleiner Saal
URL:https://waldorfschule-msw.de/veranstaltung/gefahren-im-netz-erkennen-handlungsfaehig-bleiben/
LOCATION:Freie Waldorfschule München Südwest\, Züricher Straße 9\, 81476 München\, 81476
CATEGORIES:Vortrag
ATTACH;FMTTYPE=image/jpeg:https://waldorfschule-msw.de/wp-content/uploads/2023/11/web-medienvortrag.jpg
END:VEVENT
END:VCALENDAR